BEGIN:VCALENDAR
VERSION:2.0
PRODID:-//Westminster - ECPv6.15.20//NONSGML v1.0//EN
CALSCALE:GREGORIAN
METHOD:PUBLISH
X-WR-CALNAME:Westminster
X-ORIGINAL-URL:https://www.westminsterprimary.cheshire.sch.uk
X-WR-CALDESC:Events for Westminster
REFRESH-INTERVAL;VALUE=DURATION:PT1H
X-Robots-Tag:noindex
X-PUBLISHED-TTL:PT1H
BEGIN:VTIMEZONE
TZID:Europe/London
BEGIN:DAYLIGHT
TZOFFSETFROM:+0000
TZOFFSETTO:+0100
TZNAME:BST
DTSTART:20240331T010000
END:DAYLIGHT
BEGIN:STANDARD
TZOFFSETFROM:+0100
TZOFFSETTO:+0000
TZNAME:GMT
DTSTART:20241027T010000
END:STANDARD
BEGIN:DAYLIGHT
TZOFFSETFROM:+0000
TZOFFSETTO:+0100
TZNAME:BST
DTSTART:20250330T010000
END:DAYLIGHT
BEGIN:STANDARD
TZOFFSETFROM:+0100
TZOFFSETTO:+0000
TZNAME:GMT
DTSTART:20251026T010000
END:STANDARD
BEGIN:DAYLIGHT
TZOFFSETFROM:+0000
TZOFFSETTO:+0100
TZNAME:BST
DTSTART:20260329T010000
END:DAYLIGHT
BEGIN:STANDARD
TZOFFSETFROM:+0100
TZOFFSETTO:+0000
TZNAME:GMT
DTSTART:20261025T010000
END:STANDARD
END:VTIMEZONE
BEGIN:VEVENT
DTSTART;TZID=Europe/London:20250314T084500
DTEND;TZID=Europe/London:20250314T090000
DTSTAMP:20260421T172005
CREATED:20240221T165016Z
LAST-MODIFIED:20240411T191530Z
UID:10000646-1741941900-1741942800@www.westminsterprimary.cheshire.sch.uk
SUMMARY:Awards Assembly
DESCRIPTION:
URL:https://www.westminsterprimary.cheshire.sch.uk/event/awards-assembly-79/
END:VEVENT
BEGIN:VEVENT
DTSTART;TZID=Europe/London:20250317T090000
DTEND;TZID=Europe/London:20250317T091500
DTSTAMP:20260421T172005
CREATED:20250227T233019Z
LAST-MODIFIED:20250317T001529Z
UID:10000880-1742202000-1742202900@www.westminsterprimary.cheshire.sch.uk
SUMMARY:St Patrick’s day class assembly (year 3)
DESCRIPTION:Join with Google Meet: https://meet.google.com/zur-rkxh-wxd\nOr dial: (US) +1 252-394-8316 PIN: 796955796#\nLearn more about Meet at: https://support.google.com/a/users/answer/9282720
URL:https://www.westminsterprimary.cheshire.sch.uk/event/st-patricks-day-class-assembly-year-3/
END:VEVENT
BEGIN:VEVENT
DTSTART;VALUE=DATE:20250319
DTEND;VALUE=DATE:20250320
DTSTAMP:20260421T172005
CREATED:20250227T233020Z
LAST-MODIFIED:20250319T001652Z
UID:10000881-1742342400-1742428799@www.westminsterprimary.cheshire.sch.uk
SUMMARY:Year 1\, 4 and 5 - Trip to Chester Zoo
DESCRIPTION:Join with Google Meet: https://meet.google.com/agm-vbpo-dcb\nOr dial: (US) +1 424-379-1349 PIN: 501133859#\nLearn more about Meet at: https://support.google.com/a/users/answer/9282720
URL:https://www.westminsterprimary.cheshire.sch.uk/event/year-1-4-and-5-trip-to-chester-zoo/
END:VEVENT
END:VCALENDAR