BEGIN:VCALENDAR
VERSION:2.0
PRODID:-//Westminster - ECPv6.15.20//NONSGML v1.0//EN
CALSCALE:GREGORIAN
METHOD:PUBLISH
X-ORIGINAL-URL:https://www.westminsterprimary.cheshire.sch.uk
X-WR-CALDESC:Events for Westminster
REFRESH-INTERVAL;VALUE=DURATION:PT1H
X-Robots-Tag:noindex
X-PUBLISHED-TTL:PT1H
BEGIN:VTIMEZONE
TZID:Europe/London
BEGIN:DAYLIGHT
TZOFFSETFROM:+0000
TZOFFSETTO:+0100
TZNAME:BST
DTSTART:20250330T010000
END:DAYLIGHT
BEGIN:STANDARD
TZOFFSETFROM:+0100
TZOFFSETTO:+0000
TZNAME:GMT
DTSTART:20251026T010000
END:STANDARD
BEGIN:DAYLIGHT
TZOFFSETFROM:+0000
TZOFFSETTO:+0100
TZNAME:BST
DTSTART:20260329T010000
END:DAYLIGHT
BEGIN:STANDARD
TZOFFSETFROM:+0100
TZOFFSETTO:+0000
TZNAME:GMT
DTSTART:20261025T010000
END:STANDARD
BEGIN:DAYLIGHT
TZOFFSETFROM:+0000
TZOFFSETTO:+0100
TZNAME:BST
DTSTART:20270328T010000
END:DAYLIGHT
BEGIN:STANDARD
TZOFFSETFROM:+0100
TZOFFSETTO:+0000
TZNAME:GMT
DTSTART:20271031T010000
END:STANDARD
BEGIN:DAYLIGHT
TZOFFSETFROM:+0000
TZOFFSETTO:+0100
TZNAME:BST
DTSTART:20280326T010000
END:DAYLIGHT
BEGIN:STANDARD
TZOFFSETFROM:+0100
TZOFFSETTO:+0000
TZNAME:GMT
DTSTART:20281029T010000
END:STANDARD
END:VTIMEZONE
BEGIN:VEVENT
DTSTART;VALUE=DATE:20260720
DTEND;VALUE=DATE:20260901
DTSTAMP:20260421T122103
CREATED:20251107T072301Z
LAST-MODIFIED:20260421T053023Z
UID:10000961-1784505600-1788220799@www.westminsterprimary.cheshire.sch.uk
SUMMARY:Summer Break - School Closed
DESCRIPTION:
URL:https://www.westminsterprimary.cheshire.sch.uk/event/summer-break-school-closed/
END:VEVENT
BEGIN:VEVENT
DTSTART;TZID=Europe/London:20260820T143000
DTEND;TZID=Europe/London:20260820T153000
DTSTAMP:20260421T122103
CREATED:20251107T072306Z
LAST-MODIFIED:20260421T053023Z
UID:10000962-1787236200-1787239800@www.westminsterprimary.cheshire.sch.uk
SUMMARY:Early Help Navigator Drop in Session (Olivia Ward)
DESCRIPTION:
URL:https://www.westminsterprimary.cheshire.sch.uk/event/early-help-navigator-drop-in-session-olivia-ward-11/
LOCATION:Westminster School Meeting Room
END:VEVENT
BEGIN:VEVENT
DTSTART;TZID=Europe/London:20260917T143000
DTEND;TZID=Europe/London:20260917T153000
DTSTAMP:20260421T122103
CREATED:20251107T072309Z
LAST-MODIFIED:20260421T053023Z
UID:10000963-1789655400-1789659000@www.westminsterprimary.cheshire.sch.uk
SUMMARY:Early Help Navigator Drop in Session (Olivia Ward)
DESCRIPTION:
URL:https://www.westminsterprimary.cheshire.sch.uk/event/early-help-navigator-drop-in-session-olivia-ward-12/
LOCATION:Westminster School Meeting Room
END:VEVENT
BEGIN:VEVENT
DTSTART;TZID=Europe/London:20261015T143000
DTEND;TZID=Europe/London:20261015T153000
DTSTAMP:20260421T122103
CREATED:20251107T072312Z
LAST-MODIFIED:20260421T053023Z
UID:10000964-1792074600-1792078200@www.westminsterprimary.cheshire.sch.uk
SUMMARY:Early Help Navigator Drop in Session (Olivia Ward)
DESCRIPTION:
URL:https://www.westminsterprimary.cheshire.sch.uk/event/early-help-navigator-drop-in-session-olivia-ward-13/
LOCATION:Westminster School Meeting Room
END:VEVENT
BEGIN:VEVENT
DTSTART;TZID=Europe/London:20261016T084500
DTEND;TZID=Europe/London:20261016T090000
DTSTAMP:20260421T122103
CREATED:20241016T173119Z
LAST-MODIFIED:20260421T053023Z
UID:10000837-1792140300-1792141200@www.westminsterprimary.cheshire.sch.uk
SUMMARY:Celebration Assembly
DESCRIPTION:
URL:https://www.westminsterprimary.cheshire.sch.uk/event/celebration-assembly-113/
END:VEVENT
BEGIN:VEVENT
DTSTART;TZID=Europe/London:20261023T084500
DTEND;TZID=Europe/London:20261023T090000
DTSTAMP:20260421T122103
CREATED:20241023T180039Z
LAST-MODIFIED:20260421T053023Z
UID:10000838-1792745100-1792746000@www.westminsterprimary.cheshire.sch.uk
SUMMARY:Celebration Assembly
DESCRIPTION:
URL:https://www.westminsterprimary.cheshire.sch.uk/event/celebration-assembly-114/
END:VEVENT
BEGIN:VEVENT
DTSTART;TZID=Europe/London:20261030T084500
DTEND;TZID=Europe/London:20261030T090000
DTSTAMP:20260421T122103
CREATED:20241030T180030Z
LAST-MODIFIED:20260421T053023Z
UID:10000839-1793349900-1793350800@www.westminsterprimary.cheshire.sch.uk
SUMMARY:Celebration Assembly
DESCRIPTION:
URL:https://www.westminsterprimary.cheshire.sch.uk/event/celebration-assembly-115/
END:VEVENT
BEGIN:VEVENT
DTSTART;TZID=Europe/London:20261106T084500
DTEND;TZID=Europe/London:20261106T090000
DTSTAMP:20260421T122103
CREATED:20241106T181528Z
LAST-MODIFIED:20260421T053023Z
UID:10000843-1793954700-1793955600@www.westminsterprimary.cheshire.sch.uk
SUMMARY:Celebration Assembly
DESCRIPTION:
URL:https://www.westminsterprimary.cheshire.sch.uk/event/celebration-assembly-116/
END:VEVENT
BEGIN:VEVENT
DTSTART;TZID=Europe/London:20261113T084500
DTEND;TZID=Europe/London:20261113T090000
DTSTAMP:20260421T122103
CREATED:20241113T181531Z
LAST-MODIFIED:20260421T053023Z
UID:10000849-1794559500-1794560400@www.westminsterprimary.cheshire.sch.uk
SUMMARY:Celebration Assembly
DESCRIPTION:
URL:https://www.westminsterprimary.cheshire.sch.uk/event/celebration-assembly-117/
END:VEVENT
BEGIN:VEVENT
DTSTART;TZID=Europe/London:20261119T143000
DTEND;TZID=Europe/London:20261119T153000
DTSTAMP:20260421T122103
CREATED:20251107T072317Z
LAST-MODIFIED:20260421T053024Z
UID:10000965-1795098600-1795102200@www.westminsterprimary.cheshire.sch.uk
SUMMARY:Early Help Navigator Drop in Session (Olivia Ward)
DESCRIPTION:
URL:https://www.westminsterprimary.cheshire.sch.uk/event/early-help-navigator-drop-in-session-olivia-ward-14/
LOCATION:Westminster School Meeting Room
END:VEVENT
BEGIN:VEVENT
DTSTART;TZID=Europe/London:20261120T084500
DTEND;TZID=Europe/London:20261120T090000
DTSTAMP:20260421T122103
CREATED:20241120T181537Z
LAST-MODIFIED:20260421T053024Z
UID:10000851-1795164300-1795165200@www.westminsterprimary.cheshire.sch.uk
SUMMARY:Celebration Assembly
DESCRIPTION:
URL:https://www.westminsterprimary.cheshire.sch.uk/event/celebration-assembly-118/
END:VEVENT
BEGIN:VEVENT
DTSTART;TZID=Europe/London:20261127T084500
DTEND;TZID=Europe/London:20261127T090000
DTSTAMP:20260421T122103
CREATED:20241127T183028Z
LAST-MODIFIED:20260421T053024Z
UID:10000852-1795769100-1795770000@www.westminsterprimary.cheshire.sch.uk
SUMMARY:Celebration Assembly
DESCRIPTION:
URL:https://www.westminsterprimary.cheshire.sch.uk/event/celebration-assembly-119/
END:VEVENT
BEGIN:VEVENT
DTSTART;TZID=Europe/London:20261204T084500
DTEND;TZID=Europe/London:20261204T090000
DTSTAMP:20260421T122103
CREATED:20241204T190027Z
LAST-MODIFIED:20260421T053024Z
UID:10000853-1796373900-1796374800@www.westminsterprimary.cheshire.sch.uk
SUMMARY:Celebration Assembly
DESCRIPTION:
URL:https://www.westminsterprimary.cheshire.sch.uk/event/celebration-assembly-120/
END:VEVENT
BEGIN:VEVENT
DTSTART;TZID=Europe/London:20261211T084500
DTEND;TZID=Europe/London:20261211T090000
DTSTAMP:20260421T122103
CREATED:20241211T193026Z
LAST-MODIFIED:20260421T053024Z
UID:10000854-1796978700-1796979600@www.westminsterprimary.cheshire.sch.uk
SUMMARY:Celebration Assembly
DESCRIPTION:
URL:https://www.westminsterprimary.cheshire.sch.uk/event/celebration-assembly-121/
END:VEVENT
BEGIN:VEVENT
DTSTART;TZID=Europe/London:20261217T143000
DTEND;TZID=Europe/London:20261217T153000
DTSTAMP:20260421T122103
CREATED:20251107T072321Z
LAST-MODIFIED:20260421T053024Z
UID:10000966-1797517800-1797521400@www.westminsterprimary.cheshire.sch.uk
SUMMARY:Early Help Navigator Drop in Session (Olivia Ward)
DESCRIPTION:
URL:https://www.westminsterprimary.cheshire.sch.uk/event/early-help-navigator-drop-in-session-olivia-ward-15/
LOCATION:Westminster School Meeting Room
END:VEVENT
BEGIN:VEVENT
DTSTART;TZID=Europe/London:20261218T084500
DTEND;TZID=Europe/London:20261218T090000
DTSTAMP:20260421T122103
CREATED:20241218T200100Z
LAST-MODIFIED:20260421T053024Z
UID:10000855-1797583500-1797584400@www.westminsterprimary.cheshire.sch.uk
SUMMARY:Celebration Assembly
DESCRIPTION:
URL:https://www.westminsterprimary.cheshire.sch.uk/event/celebration-assembly-122/
END:VEVENT
BEGIN:VEVENT
DTSTART;TZID=Europe/London:20261225T084500
DTEND;TZID=Europe/London:20261225T090000
DTSTAMP:20260421T122103
CREATED:20241225T203021Z
LAST-MODIFIED:20260421T053024Z
UID:10000856-1798188300-1798189200@www.westminsterprimary.cheshire.sch.uk
SUMMARY:Celebration Assembly
DESCRIPTION:
URL:https://www.westminsterprimary.cheshire.sch.uk/event/celebration-assembly-123/
END:VEVENT
BEGIN:VEVENT
DTSTART;TZID=Europe/London:20270101T084500
DTEND;TZID=Europe/London:20270101T090000
DTSTAMP:20260421T122103
CREATED:20250101T204520Z
LAST-MODIFIED:20260421T053024Z
UID:10000857-1798793100-1798794000@www.westminsterprimary.cheshire.sch.uk
SUMMARY:Celebration Assembly
DESCRIPTION:
URL:https://www.westminsterprimary.cheshire.sch.uk/event/celebration-assembly-124/
END:VEVENT
BEGIN:VEVENT
DTSTART;TZID=Europe/London:20270108T084500
DTEND;TZID=Europe/London:20270108T090000
DTSTAMP:20260421T122103
CREATED:20250108T210033Z
LAST-MODIFIED:20260421T053024Z
UID:10000858-1799397900-1799398800@www.westminsterprimary.cheshire.sch.uk
SUMMARY:Celebration Assembly
DESCRIPTION:
URL:https://www.westminsterprimary.cheshire.sch.uk/event/celebration-assembly-125/
END:VEVENT
BEGIN:VEVENT
DTSTART;TZID=Europe/London:20270115T084500
DTEND;TZID=Europe/London:20270115T090000
DTSTAMP:20260421T122103
CREATED:20250115T213029Z
LAST-MODIFIED:20260421T053024Z
UID:10000861-1800002700-1800003600@www.westminsterprimary.cheshire.sch.uk
SUMMARY:Celebration Assembly
DESCRIPTION:
URL:https://www.westminsterprimary.cheshire.sch.uk/event/celebration-assembly-126/
END:VEVENT
BEGIN:VEVENT
DTSTART;TZID=Europe/London:20270121T143000
DTEND;TZID=Europe/London:20270121T153000
DTSTAMP:20260421T122103
CREATED:20251107T072327Z
LAST-MODIFIED:20260421T053024Z
UID:10000967-1800541800-1800545400@www.westminsterprimary.cheshire.sch.uk
SUMMARY:Early Help Navigator Drop in Session (Olivia Ward)
DESCRIPTION:
URL:https://www.westminsterprimary.cheshire.sch.uk/event/early-help-navigator-drop-in-session-olivia-ward-16/
LOCATION:Westminster School Meeting Room
END:VEVENT
BEGIN:VEVENT
DTSTART;TZID=Europe/London:20270122T084500
DTEND;TZID=Europe/London:20270122T090000
DTSTAMP:20260421T122103
CREATED:20250122T221525Z
LAST-MODIFIED:20260421T053024Z
UID:10000862-1800607500-1800608400@www.westminsterprimary.cheshire.sch.uk
SUMMARY:Celebration Assembly
DESCRIPTION:
URL:https://www.westminsterprimary.cheshire.sch.uk/event/celebration-assembly-127/
END:VEVENT
BEGIN:VEVENT
DTSTART;TZID=Europe/London:20270129T084500
DTEND;TZID=Europe/London:20270129T090000
DTSTAMP:20260421T122103
CREATED:20250129T223023Z
LAST-MODIFIED:20260421T053024Z
UID:10000863-1801212300-1801213200@www.westminsterprimary.cheshire.sch.uk
SUMMARY:Celebration Assembly
DESCRIPTION:
URL:https://www.westminsterprimary.cheshire.sch.uk/event/celebration-assembly-128/
END:VEVENT
BEGIN:VEVENT
DTSTART;TZID=Europe/London:20270205T084500
DTEND;TZID=Europe/London:20270205T090000
DTSTAMP:20260421T122103
CREATED:20250205T223025Z
LAST-MODIFIED:20260421T053024Z
UID:10000870-1801817100-1801818000@www.westminsterprimary.cheshire.sch.uk
SUMMARY:Celebration Assembly
DESCRIPTION:
URL:https://www.westminsterprimary.cheshire.sch.uk/event/celebration-assembly-129/
END:VEVENT
BEGIN:VEVENT
DTSTART;TZID=Europe/London:20270212T084500
DTEND;TZID=Europe/London:20270212T090000
DTSTAMP:20260421T122103
CREATED:20250212T230037Z
LAST-MODIFIED:20260421T053024Z
UID:10000873-1802421900-1802422800@www.westminsterprimary.cheshire.sch.uk
SUMMARY:Celebration Assembly
DESCRIPTION:
URL:https://www.westminsterprimary.cheshire.sch.uk/event/celebration-assembly-130/
END:VEVENT
BEGIN:VEVENT
DTSTART;TZID=Europe/London:20270218T143000
DTEND;TZID=Europe/London:20270218T153000
DTSTAMP:20260421T122103
CREATED:20251107T072331Z
LAST-MODIFIED:20260421T053024Z
UID:10000968-1802961000-1802964600@www.westminsterprimary.cheshire.sch.uk
SUMMARY:Early Help Navigator Drop in Session (Olivia Ward)
DESCRIPTION:
URL:https://www.westminsterprimary.cheshire.sch.uk/event/early-help-navigator-drop-in-session-olivia-ward-17/
LOCATION:Westminster School Meeting Room
END:VEVENT
BEGIN:VEVENT
DTSTART;TZID=Europe/London:20270219T084500
DTEND;TZID=Europe/London:20270219T090000
DTSTAMP:20260421T122103
CREATED:20250219T233024Z
LAST-MODIFIED:20260421T053024Z
UID:10000874-1803026700-1803027600@www.westminsterprimary.cheshire.sch.uk
SUMMARY:Celebration Assembly
DESCRIPTION:
URL:https://www.westminsterprimary.cheshire.sch.uk/event/celebration-assembly-131/
END:VEVENT
BEGIN:VEVENT
DTSTART;TZID=Europe/London:20270226T084500
DTEND;TZID=Europe/London:20270226T090000
DTSTAMP:20260421T122103
CREATED:20250226T233028Z
LAST-MODIFIED:20260421T053024Z
UID:10000875-1803631500-1803632400@www.westminsterprimary.cheshire.sch.uk
SUMMARY:Celebration Assembly
DESCRIPTION:
URL:https://www.westminsterprimary.cheshire.sch.uk/event/celebration-assembly-132/
END:VEVENT
BEGIN:VEVENT
DTSTART;TZID=Europe/London:20270305T084500
DTEND;TZID=Europe/London:20270305T090000
DTSTAMP:20260421T122103
CREATED:20250305T000056Z
LAST-MODIFIED:20260421T053024Z
UID:10000883-1804236300-1804237200@www.westminsterprimary.cheshire.sch.uk
SUMMARY:Celebration Assembly
DESCRIPTION:
URL:https://www.westminsterprimary.cheshire.sch.uk/event/celebration-assembly-133/
END:VEVENT
BEGIN:VEVENT
DTSTART;TZID=Europe/London:20270312T084500
DTEND;TZID=Europe/London:20270312T090000
DTSTAMP:20260421T122103
CREATED:20250312T001623Z
LAST-MODIFIED:20260421T053024Z
UID:10000884-1804841100-1804842000@www.westminsterprimary.cheshire.sch.uk
SUMMARY:Celebration Assembly
DESCRIPTION:
URL:https://www.westminsterprimary.cheshire.sch.uk/event/celebration-assembly-134/
END:VEVENT
END:VCALENDAR