BEGIN:VCALENDAR
VERSION:2.0
PRODID:-//Westminster - ECPv6.15.20//NONSGML v1.0//EN
CALSCALE:GREGORIAN
METHOD:PUBLISH
X-WR-CALNAME:Westminster
X-ORIGINAL-URL:https://www.westminsterprimary.cheshire.sch.uk
X-WR-CALDESC:Events for Westminster
REFRESH-INTERVAL;VALUE=DURATION:PT1H
X-Robots-Tag:noindex
X-PUBLISHED-TTL:PT1H
BEGIN:VTIMEZONE
TZID:Europe/London
BEGIN:DAYLIGHT
TZOFFSETFROM:+0000
TZOFFSETTO:+0100
TZNAME:BST
DTSTART:20240331T010000
END:DAYLIGHT
BEGIN:STANDARD
TZOFFSETFROM:+0100
TZOFFSETTO:+0000
TZNAME:GMT
DTSTART:20241027T010000
END:STANDARD
BEGIN:DAYLIGHT
TZOFFSETFROM:+0000
TZOFFSETTO:+0100
TZNAME:BST
DTSTART:20250330T010000
END:DAYLIGHT
BEGIN:STANDARD
TZOFFSETFROM:+0100
TZOFFSETTO:+0000
TZNAME:GMT
DTSTART:20251026T010000
END:STANDARD
BEGIN:DAYLIGHT
TZOFFSETFROM:+0000
TZOFFSETTO:+0100
TZNAME:BST
DTSTART:20260329T010000
END:DAYLIGHT
BEGIN:STANDARD
TZOFFSETFROM:+0100
TZOFFSETTO:+0000
TZNAME:GMT
DTSTART:20261025T010000
END:STANDARD
END:VTIMEZONE
BEGIN:VEVENT
DTSTART;TZID=Europe/London:20250304T090000
DTEND;TZID=Europe/London:20250304T151500
DTSTAMP:20260421T153143
CREATED:20250227T233019Z
LAST-MODIFIED:20250304T000020Z
UID:10000877-1741078800-1741101300@www.westminsterprimary.cheshire.sch.uk
SUMMARY:Year 3 Trip to Liverpool Museum
DESCRIPTION:Join with Google Meet: https://meet.google.com/qud-jcbf-zxn\nOr dial: (US) +1 331-979-1695 PIN: 797675255#\nLearn more about Meet at: https://support.google.com/a/users/answer/9282720
URL:https://www.westminsterprimary.cheshire.sch.uk/event/year-3-trip-to-liverpool-museum/
END:VEVENT
BEGIN:VEVENT
DTSTART;TZID=Europe/London:20250228T090000
DTEND;TZID=Europe/London:20250228T100000
DTSTAMP:20260421T153143
CREATED:20250227T233019Z
LAST-MODIFIED:20250227T233022Z
UID:10000876-1740733200-1740736800@www.westminsterprimary.cheshire.sch.uk
SUMMARY:Y1 St David's day assembly
DESCRIPTION:Join with Google Meet: https://meet.google.com/ifz-dhmn-kom\nOr dial: (US) +1 252-516-1154 PIN: 431743047#\nLearn more about Meet at: https://support.google.com/a/users/answer/9282720
URL:https://www.westminsterprimary.cheshire.sch.uk/event/y1-st-davids-day-assembly/
END:VEVENT
BEGIN:VEVENT
DTSTART;TZID=Europe/London:20250228T084500
DTEND;TZID=Europe/London:20250228T090000
DTSTAMP:20260421T153143
CREATED:20240208T154550Z
LAST-MODIFIED:20240411T191530Z
UID:10000635-1740732300-1740733200@www.westminsterprimary.cheshire.sch.uk
SUMMARY:Awards Assembly
DESCRIPTION:
URL:https://www.westminsterprimary.cheshire.sch.uk/event/awards-assembly-77/
END:VEVENT
BEGIN:VEVENT
DTSTART;TZID=Europe/London:20250221T084500
DTEND;TZID=Europe/London:20250221T090000
DTSTAMP:20260421T153143
CREATED:20240128T150200Z
LAST-MODIFIED:20240411T191529Z
UID:10000628-1740127500-1740128400@www.westminsterprimary.cheshire.sch.uk
SUMMARY:Awards Assembly
DESCRIPTION:
URL:https://www.westminsterprimary.cheshire.sch.uk/event/awards-assembly-76/
END:VEVENT
BEGIN:VEVENT
DTSTART;VALUE=DATE:20250217
DTEND;VALUE=DATE:20250222
DTSTAMP:20260421T153143
CREATED:20240125T150100Z
LAST-MODIFIED:20250221T233016Z
UID:10000623-1739750400-1740182399@www.westminsterprimary.cheshire.sch.uk
SUMMARY:Spring Half Term
DESCRIPTION:
URL:https://www.westminsterprimary.cheshire.sch.uk/event/spring-half-term/
END:VEVENT
BEGIN:VEVENT
DTSTART;TZID=Europe/London:20250214T151500
DTEND;TZID=Europe/London:20250214T161500
DTSTAMP:20260421T153143
CREATED:20250210T223325Z
LAST-MODIFIED:20250213T230154Z
UID:10000872-1739546100-1739549700@www.westminsterprimary.cheshire.sch.uk
SUMMARY:Term Ends
DESCRIPTION:
URL:https://www.westminsterprimary.cheshire.sch.uk/event/term-ends-2/
END:VEVENT
END:VCALENDAR