BEGIN:VCALENDAR
VERSION:2.0
PRODID:-//Westminster - ECPv6.15.20//NONSGML v1.0//EN
CALSCALE:GREGORIAN
METHOD:PUBLISH
X-ORIGINAL-URL:https://www.westminsterprimary.cheshire.sch.uk
X-WR-CALDESC:Events for Westminster
REFRESH-INTERVAL;VALUE=DURATION:PT1H
X-Robots-Tag:noindex
X-PUBLISHED-TTL:PT1H
BEGIN:VTIMEZONE
TZID:Europe/London
BEGIN:DAYLIGHT
TZOFFSETFROM:+0000
TZOFFSETTO:+0100
TZNAME:BST
DTSTART:20240331T010000
END:DAYLIGHT
BEGIN:STANDARD
TZOFFSETFROM:+0100
TZOFFSETTO:+0000
TZNAME:GMT
DTSTART:20241027T010000
END:STANDARD
BEGIN:DAYLIGHT
TZOFFSETFROM:+0000
TZOFFSETTO:+0100
TZNAME:BST
DTSTART:20250330T010000
END:DAYLIGHT
BEGIN:STANDARD
TZOFFSETFROM:+0100
TZOFFSETTO:+0000
TZNAME:GMT
DTSTART:20251026T010000
END:STANDARD
BEGIN:DAYLIGHT
TZOFFSETFROM:+0000
TZOFFSETTO:+0100
TZNAME:BST
DTSTART:20260329T010000
END:DAYLIGHT
BEGIN:STANDARD
TZOFFSETFROM:+0100
TZOFFSETTO:+0000
TZNAME:GMT
DTSTART:20261025T010000
END:STANDARD
END:VTIMEZONE
BEGIN:VEVENT
DTSTART;TZID=Europe/London:20250320T130000
DTEND;TZID=Europe/London:20250320T160000
DTSTAMP:20260421T091911
CREATED:20250227T233020Z
LAST-MODIFIED:20250320T001754Z
UID:10000882-1742475600-1742486400@www.westminsterprimary.cheshire.sch.uk
SUMMARY:Easter Experience - Year 4 @ St Thomas' Church
DESCRIPTION:Join with Google Meet: https://meet.google.com/tfy-hwmk-guu\nOr dial: (US) +1 419-853-6057 PIN: 494051910#\nLearn more about Meet at: https://support.google.com/a/users/answer/9282720
URL:https://www.westminsterprimary.cheshire.sch.uk/event/easter-experience-year-4-st-thomas-church/
END:VEVENT
END:VCALENDAR